BEGIN:VCALENDAR
VERSION:2.0
PRODID:-//HOPE CENTER - ECPv6.15.20//NONSGML v1.0//EN
CALSCALE:GREGORIAN
METHOD:PUBLISH
X-ORIGINAL-URL:https://hopecenterharlem.org
X-WR-CALDESC:Events for HOPE CENTER
REFRESH-INTERVAL;VALUE=DURATION:PT1H
X-Robots-Tag:noindex
X-PUBLISHED-TTL:PT1H
BEGIN:VTIMEZONE
TZID:America/New_York
BEGIN:DAYLIGHT
TZOFFSETFROM:-0500
TZOFFSETTO:-0400
TZNAME:EDT
DTSTART:20250309T070000
END:DAYLIGHT
BEGIN:STANDARD
TZOFFSETFROM:-0400
TZOFFSETTO:-0500
TZNAME:EST
DTSTART:20251102T060000
END:STANDARD
BEGIN:DAYLIGHT
TZOFFSETFROM:-0500
TZOFFSETTO:-0400
TZNAME:EDT
DTSTART:20260308T070000
END:DAYLIGHT
BEGIN:STANDARD
TZOFFSETFROM:-0400
TZOFFSETTO:-0500
TZNAME:EST
DTSTART:20261101T060000
END:STANDARD
BEGIN:DAYLIGHT
TZOFFSETFROM:-0500
TZOFFSETTO:-0400
TZNAME:EDT
DTSTART:20270314T070000
END:DAYLIGHT
BEGIN:STANDARD
TZOFFSETFROM:-0400
TZOFFSETTO:-0500
TZNAME:EST
DTSTART:20271107T060000
END:STANDARD
END:VTIMEZONE
BEGIN:VEVENT
DTSTART;TZID=America/New_York:20260326T180000
DTEND;TZID=America/New_York:20260326T193000
DTSTAMP:20260421T123441
CREATED:20260211T192649Z
LAST-MODIFIED:20260326T164401Z
UID:10000402-1774548000-1774553400@hopecenterharlem.org
SUMMARY:ROOTED in the Body
DESCRIPTION:Join us for “Rooted in the Body\,” a six-week group that utilizes body-based practices and creativity to support stress relief and emotional awareness. Inspired by drama therapy\, participants will engage in movement\, role exploration\, and collective storytelling to explore sensations and emotions in a supportive environment. \nThe experience includes the option to develop skills for a low-pressure sharing or performance for an invited audience\, entirely at your discretion. \nThe group meets on Thursdays at 6 PM\, starting March 5th. Connect with yourself and others while exploring the power of expressive arts! Register using the link below
URL:https://hopecenterharlem.org/event/rooted-in-the-body/2026-03-26/
LOCATION:First Corinthian Baptist Church\, 1912 Adam Clayton Powell Junior Boulevard New York\, NY 10026\, NEW YORK\, 10026\, United States
ATTACH;FMTTYPE=image/png:https://hopecenterharlem.org/wp-content/uploads/2026/02/rev.-Rooted-in-the-body-Presentation.png
END:VEVENT
END:VCALENDAR