BEGIN:VCALENDAR
VERSION:2.0
PRODID:-//HOPE CENTER - ECPv6.15.20//NONSGML v1.0//EN
CALSCALE:GREGORIAN
METHOD:PUBLISH
X-ORIGINAL-URL:https://hopecenterharlem.org
X-WR-CALDESC:Events for HOPE CENTER
REFRESH-INTERVAL;VALUE=DURATION:PT1H
X-Robots-Tag:noindex
X-PUBLISHED-TTL:PT1H
BEGIN:VTIMEZONE
TZID:America/New_York
BEGIN:DAYLIGHT
TZOFFSETFROM:-0500
TZOFFSETTO:-0400
TZNAME:EDT
DTSTART:20250309T070000
END:DAYLIGHT
BEGIN:STANDARD
TZOFFSETFROM:-0400
TZOFFSETTO:-0500
TZNAME:EST
DTSTART:20251102T060000
END:STANDARD
BEGIN:DAYLIGHT
TZOFFSETFROM:-0500
TZOFFSETTO:-0400
TZNAME:EDT
DTSTART:20260308T070000
END:DAYLIGHT
BEGIN:STANDARD
TZOFFSETFROM:-0400
TZOFFSETTO:-0500
TZNAME:EST
DTSTART:20261101T060000
END:STANDARD
BEGIN:DAYLIGHT
TZOFFSETFROM:-0500
TZOFFSETTO:-0400
TZNAME:EDT
DTSTART:20270314T070000
END:DAYLIGHT
BEGIN:STANDARD
TZOFFSETFROM:-0400
TZOFFSETTO:-0500
TZNAME:EST
DTSTART:20271107T060000
END:STANDARD
END:VTIMEZONE
BEGIN:VEVENT
DTSTART;TZID=America/New_York:20260521T183000
DTEND;TZID=America/New_York:20260521T200000
DTSTAMP:20260421T123953
CREATED:20260331T133310Z
LAST-MODIFIED:20260331T133312Z
UID:10000447-1779388200-1779393600@hopecenterharlem.org
SUMMARY:Therapy & Theology
DESCRIPTION:Back by popular demand. The HOPE Center\, in partnership with FCBC\, presents Therapy & Theology -a four-week journey where faith & mental health meet. Through scripture\, therapeutic tools\, & community\, we create space for honest reflection\, healing\, & growth. This series will meet at 6:30pm on Thursdays beginning May 7th. Registration is required. click the event link and reserve your spot. Real tools. Real talk. Real healing.
URL:https://hopecenterharlem.org/event/therapy-theology-2/2026-05-21/
LOCATION:First Corinthian Baptist Church\, 1912 Adam Clayton Powell Junior Boulevard New York\, NY 10026\, NEW YORK\, 10026\, United States
ATTACH;FMTTYPE=image/png:https://hopecenterharlem.org/wp-content/uploads/2026/03/Therapy-and-Theology-Hope-Center-1920-x-1080-px-3.png
END:VEVENT
BEGIN:VEVENT
DTSTART;TZID=America/New_York:20260527T173000
DTEND;TZID=America/New_York:20260527T183000
DTSTAMP:20260421T123953
CREATED:20260317T172230Z
LAST-MODIFIED:20260317T172232Z
UID:10000434-1779903000-1779906600@hopecenterharlem.org
SUMMARY:Tai Chi
DESCRIPTION:The HOPE Center\, in collaboration with the MSK Ralph Lauren Center and the Dream Center Harlem\, is hosting Tai Chi\, a free martial arts program. Classes begin Wednesday\, March 11th. During free weekly in-person classes\, you will learn the basic concepts\, exercises\, and techniques of Tai Chi.
URL:https://hopecenterharlem.org/event/tai-chi/2026-05-27/
LOCATION:Dream Center Harlem\, 205 W. 119th Street New York\, NY 10026\, NEW YORK\, NY\, 10026\, United States
ATTACH;FMTTYPE=image/png:https://hopecenterharlem.org/wp-content/uploads/2026/03/TaiChiFlyer-SPRING2026.png
END:VEVENT
BEGIN:VEVENT
DTSTART;TZID=America/New_York:20260528T183000
DTEND;TZID=America/New_York:20260528T200000
DTSTAMP:20260421T123953
CREATED:20260331T133310Z
LAST-MODIFIED:20260331T133312Z
UID:10000448-1779993000-1779998400@hopecenterharlem.org
SUMMARY:Therapy & Theology
DESCRIPTION:Back by popular demand. The HOPE Center\, in partnership with FCBC\, presents Therapy & Theology -a four-week journey where faith & mental health meet. Through scripture\, therapeutic tools\, & community\, we create space for honest reflection\, healing\, & growth. This series will meet at 6:30pm on Thursdays beginning May 7th. Registration is required. click the event link and reserve your spot. Real tools. Real talk. Real healing.
URL:https://hopecenterharlem.org/event/therapy-theology-2/2026-05-28/
LOCATION:First Corinthian Baptist Church\, 1912 Adam Clayton Powell Junior Boulevard New York\, NY 10026\, NEW YORK\, 10026\, United States
ATTACH;FMTTYPE=image/png:https://hopecenterharlem.org/wp-content/uploads/2026/03/Therapy-and-Theology-Hope-Center-1920-x-1080-px-3.png
END:VEVENT
BEGIN:VEVENT
DTSTART;TZID=America/New_York:20260603T173000
DTEND;TZID=America/New_York:20260603T183000
DTSTAMP:20260421T123953
CREATED:20260317T172230Z
LAST-MODIFIED:20260317T172232Z
UID:10000435-1780507800-1780511400@hopecenterharlem.org
SUMMARY:Tai Chi
DESCRIPTION:The HOPE Center\, in collaboration with the MSK Ralph Lauren Center and the Dream Center Harlem\, is hosting Tai Chi\, a free martial arts program. Classes begin Wednesday\, March 11th. During free weekly in-person classes\, you will learn the basic concepts\, exercises\, and techniques of Tai Chi.
URL:https://hopecenterharlem.org/event/tai-chi/2026-06-03/
LOCATION:Dream Center Harlem\, 205 W. 119th Street New York\, NY 10026\, NEW YORK\, NY\, 10026\, United States
ATTACH;FMTTYPE=image/png:https://hopecenterharlem.org/wp-content/uploads/2026/03/TaiChiFlyer-SPRING2026.png
END:VEVENT
BEGIN:VEVENT
DTSTART;TZID=America/New_York:20260610T173000
DTEND;TZID=America/New_York:20260610T183000
DTSTAMP:20260421T123953
CREATED:20260317T172230Z
LAST-MODIFIED:20260317T172232Z
UID:10000436-1781112600-1781116200@hopecenterharlem.org
SUMMARY:Tai Chi
DESCRIPTION:The HOPE Center\, in collaboration with the MSK Ralph Lauren Center and the Dream Center Harlem\, is hosting Tai Chi\, a free martial arts program. Classes begin Wednesday\, March 11th. During free weekly in-person classes\, you will learn the basic concepts\, exercises\, and techniques of Tai Chi.
URL:https://hopecenterharlem.org/event/tai-chi/2026-06-10/
LOCATION:Dream Center Harlem\, 205 W. 119th Street New York\, NY 10026\, NEW YORK\, NY\, 10026\, United States
ATTACH;FMTTYPE=image/png:https://hopecenterharlem.org/wp-content/uploads/2026/03/TaiChiFlyer-SPRING2026.png
END:VEVENT
BEGIN:VEVENT
DTSTART;TZID=America/New_York:20260617T173000
DTEND;TZID=America/New_York:20260617T183000
DTSTAMP:20260421T123953
CREATED:20260317T172230Z
LAST-MODIFIED:20260317T172232Z
UID:10000437-1781717400-1781721000@hopecenterharlem.org
SUMMARY:Tai Chi
DESCRIPTION:The HOPE Center\, in collaboration with the MSK Ralph Lauren Center and the Dream Center Harlem\, is hosting Tai Chi\, a free martial arts program. Classes begin Wednesday\, March 11th. During free weekly in-person classes\, you will learn the basic concepts\, exercises\, and techniques of Tai Chi.
URL:https://hopecenterharlem.org/event/tai-chi/2026-06-17/
LOCATION:Dream Center Harlem\, 205 W. 119th Street New York\, NY 10026\, NEW YORK\, NY\, 10026\, United States
ATTACH;FMTTYPE=image/png:https://hopecenterharlem.org/wp-content/uploads/2026/03/TaiChiFlyer-SPRING2026.png
END:VEVENT
BEGIN:VEVENT
DTSTART;TZID=America/New_York:20260624T173000
DTEND;TZID=America/New_York:20260624T183000
DTSTAMP:20260421T123953
CREATED:20260317T172230Z
LAST-MODIFIED:20260317T172232Z
UID:10000438-1782322200-1782325800@hopecenterharlem.org
SUMMARY:Tai Chi
DESCRIPTION:The HOPE Center\, in collaboration with the MSK Ralph Lauren Center and the Dream Center Harlem\, is hosting Tai Chi\, a free martial arts program. Classes begin Wednesday\, March 11th. During free weekly in-person classes\, you will learn the basic concepts\, exercises\, and techniques of Tai Chi.
URL:https://hopecenterharlem.org/event/tai-chi/2026-06-24/
LOCATION:Dream Center Harlem\, 205 W. 119th Street New York\, NY 10026\, NEW YORK\, NY\, 10026\, United States
ATTACH;FMTTYPE=image/png:https://hopecenterharlem.org/wp-content/uploads/2026/03/TaiChiFlyer-SPRING2026.png
END:VEVENT
END:VCALENDAR