BEGIN:VCALENDAR
VERSION:2.0
PRODID:-//HOPE CENTER - ECPv6.15.20//NONSGML v1.0//EN
CALSCALE:GREGORIAN
METHOD:PUBLISH
X-WR-CALNAME:HOPE CENTER
X-ORIGINAL-URL:https://hopecenterharlem.org
X-WR-CALDESC:Events for HOPE CENTER
REFRESH-INTERVAL;VALUE=DURATION:PT1H
X-Robots-Tag:noindex
X-PUBLISHED-TTL:PT1H
BEGIN:VTIMEZONE
TZID:America/New_York
BEGIN:DAYLIGHT
TZOFFSETFROM:-0500
TZOFFSETTO:-0400
TZNAME:EDT
DTSTART:20250309T070000
END:DAYLIGHT
BEGIN:STANDARD
TZOFFSETFROM:-0400
TZOFFSETTO:-0500
TZNAME:EST
DTSTART:20251102T060000
END:STANDARD
BEGIN:DAYLIGHT
TZOFFSETFROM:-0500
TZOFFSETTO:-0400
TZNAME:EDT
DTSTART:20260308T070000
END:DAYLIGHT
BEGIN:STANDARD
TZOFFSETFROM:-0400
TZOFFSETTO:-0500
TZNAME:EST
DTSTART:20261101T060000
END:STANDARD
BEGIN:DAYLIGHT
TZOFFSETFROM:-0500
TZOFFSETTO:-0400
TZNAME:EDT
DTSTART:20270314T070000
END:DAYLIGHT
BEGIN:STANDARD
TZOFFSETFROM:-0400
TZOFFSETTO:-0500
TZNAME:EST
DTSTART:20271107T060000
END:STANDARD
END:VTIMEZONE
BEGIN:VEVENT
DTSTART;VALUE=DATE:20260401
DTEND;VALUE=DATE:20260501
DTSTAMP:20260421T092541
CREATED:20260324T173829Z
LAST-MODIFIED:20260324T173830Z
UID:10000441-1775001600-1777593599@hopecenterharlem.org
SUMMARY:Month of HOPE
DESCRIPTION:April is the Month of HOPE and we’re turning the energy all the way up! ✨🌿 This is your invitation to step into a month filled with connection\, healing\, creativity\, and powerful community vibes. At the HOPE Center\, we’ve curated a dynamic lineup of events designed to pour into you\, spark joy\, and remind you what’s possible when you choose hope. \nFrom soul-centered groups to inspiring workshops and feel-good gatherings\, there’s something waiting just for you. Don’t just hear about it—be in the room. 💫 \nTap in\, show up\, and experience the power of hope all month long.
URL:https://hopecenterharlem.org/event/month-of-hope/
ATTACH;FMTTYPE=image/png:https://hopecenterharlem.org/wp-content/uploads/2026/03/2026-month-of-hope.png
END:VEVENT
BEGIN:VEVENT
DTSTART;TZID=America/New_York:20260421T180000
DTEND;TZID=America/New_York:20260421T190000
DTSTAMP:20260421T092541
CREATED:20260309T144317Z
LAST-MODIFIED:20260316T185532Z
UID:10000409-1776794400-1776798000@hopecenterharlem.org
SUMMARY:The Woman Within
DESCRIPTION:Black women face a higher likelihood of developing fibroids\, yet so many navigate pelvic health challenges in silence. The Woman Within is a 5-week group created to hold honest\, & supportive conversations This space is about more than fibroids. It’s about understanding your body\, advocating for yourself\, and reconnecting with the woman within. The group begins Tuesday\, March 31st at 6 PM. To join us by click the link or scanning the QR code.
URL:https://hopecenterharlem.org/event/the-woman-within/2026-04-21/
LOCATION:First Corinthian Baptist Church\, 1912 Adam Clayton Powell Junior Boulevard New York\, NY 10026\, NEW YORK\, 10026\, United States
ATTACH;FMTTYPE=image/png:https://hopecenterharlem.org/wp-content/uploads/2026/02/The-Woman-Within-169-2.png
END:VEVENT
BEGIN:VEVENT
DTSTART;TZID=America/New_York:20260422T173000
DTEND;TZID=America/New_York:20260422T183000
DTSTAMP:20260421T092541
CREATED:20260317T172230Z
LAST-MODIFIED:20260317T172232Z
UID:10000430-1776879000-1776882600@hopecenterharlem.org
SUMMARY:Tai Chi
DESCRIPTION:The HOPE Center\, in collaboration with the MSK Ralph Lauren Center and the Dream Center Harlem\, is hosting Tai Chi\, a free martial arts program. Classes begin Wednesday\, March 11th. During free weekly in-person classes\, you will learn the basic concepts\, exercises\, and techniques of Tai Chi.
URL:https://hopecenterharlem.org/event/tai-chi/2026-04-22/
LOCATION:Dream Center Harlem\, 205 W. 119th Street New York\, NY 10026\, NEW YORK\, NY\, 10026\, United States
ATTACH;FMTTYPE=image/png:https://hopecenterharlem.org/wp-content/uploads/2026/03/TaiChiFlyer-SPRING2026.png
END:VEVENT
BEGIN:VEVENT
DTSTART;TZID=America/New_York:20260422T173000
DTEND;TZID=America/New_York:20260422T210000
DTSTAMP:20260421T092541
CREATED:20260402T161135Z
LAST-MODIFIED:20260402T161137Z
UID:10000449-1776879000-1776891600@hopecenterharlem.org
SUMMARY:ELEMENT 2026 | NEW YORK 
DESCRIPTION:Where sports\, business\, and culture collide. \nJoin us for an exclusive screening of the NAACP Image Award–nominated documentary Fatherless No More\, followed by a powerful live conversation on leadership\, mentorship\, and impact. \n🎤 Featuring: \n– Pastor Tim Johnson\, Ret. NFL Super Bowl Champion & Founder\, Fatherless No More Initiative \n– Kayla Johnson\, Former ESPN Producer & Director (Fatherless No More) \nWith special guests from the film and a presentation honoring Pastor Tim Johnson with the inaugural Good Neighbor Award. \n🎙 Moderated by Julian S. Newman\, Author\, Founder of Element & The FutureCast Foundation. \nThis is more than a screening—it’s a convening of leaders and changemakers committed to meaningful dialogue and real impact. \n👉 RSVP now to be part of the experience. \nIn association with Hope Center\, The FutureCast Foundation\, & WrightOne Media Group \n#Element2026 #Leadership #Sports #Business #Culture #FatherlessNoMore
URL:https://hopecenterharlem.org/event/element-2026-new-york/
LOCATION:First Corinthian Baptist Church\, 1912 Adam Clayton Powell Junior Boulevard New York\, NY 10026\, NEW YORK\, 10026\, United States
ATTACH;FMTTYPE=image/png:https://hopecenterharlem.org/wp-content/uploads/2026/04/FNM_Element_NYC_033126-2.png
END:VEVENT
BEGIN:VEVENT
DTSTART;TZID=America/New_York:20260423T103000
DTEND;TZID=America/New_York:20260423T120000
DTSTAMP:20260421T092541
CREATED:20260316T171326Z
LAST-MODIFIED:20260316T171328Z
UID:10000417-1776940200-1776945600@hopecenterharlem.org
SUMMARY:The Story Within: A Memoir Writing Collective
DESCRIPTION:Through narrative\, we dive into the stories of our lives and re-tell the moments that have defined us. \n\n\n\n\nThe Story Within is a six week writing group rooted in narrative therapy and storytelling practices. The purpose of this group is to create a space for participants to make meaning of their life stories\, center themselves as the author of their narrative as it extends into the future\, and challenge dominant narratives that marginalize stories and strengths. Space is very limited. Please RSVP using the link below.
URL:https://hopecenterharlem.org/event/the-story-within-a-memoir-writing-collective/2026-04-23/
LOCATION:First Corinthian Baptist Church\, 1912 Adam Clayton Powell Junior Boulevard New York\, NY 10026\, NEW YORK\, 10026\, United States
ATTACH;FMTTYPE=image/png:https://hopecenterharlem.org/wp-content/uploads/2026/03/The-Story-Within-Presentation.png
END:VEVENT
BEGIN:VEVENT
DTSTART;TZID=America/New_York:20260423T180000
DTEND;TZID=America/New_York:20260423T193000
DTSTAMP:20260421T092541
CREATED:20260326T164145Z
LAST-MODIFIED:20260326T164148Z
UID:10000442-1776967200-1776972600@hopecenterharlem.org
SUMMARY:ROOTED in the Body
DESCRIPTION:Join us for “Rooted in the Body\,” a six-week group that utilizes body-based practices and creativity to support stress relief and emotional awareness. Inspired by drama therapy\, participants will engage in movement\, role exploration\, and collective storytelling to explore sensations and emotions in a supportive environment. \nThe experience includes the option to develop skills for a low-pressure sharing or performance for an invited audience\, entirely at your discretion. \nThe group meets on Thursdays at 6 PM\, starting March 5th. Connect with yourself and others while exploring the power of expressive arts! Register using the link below
URL:https://hopecenterharlem.org/event/rooted-in-the-body-2/2026-04-23/
LOCATION:First Corinthian Baptist Church\, 1912 Adam Clayton Powell Junior Boulevard New York\, NY 10026\, NEW YORK\, 10026\, United States
ATTACH;FMTTYPE=image/png:https://hopecenterharlem.org/wp-content/uploads/2026/02/rev.-Rooted-in-the-body-Presentation.png
END:VEVENT
BEGIN:VEVENT
DTSTART;TZID=America/New_York:20260423T180000
DTEND;TZID=America/New_York:20260423T200000
DTSTAMP:20260421T092541
CREATED:20260309T205525Z
LAST-MODIFIED:20260309T205527Z
UID:10000414-1776967200-1776974400@hopecenterharlem.org
SUMMARY:BEing Women
DESCRIPTION:It’s Back! Join the Hope Center for BEing Women – a five-week therapeutic group designed to support women navigating stress\, anxiety\, and depression. This cohort begins Thursday\, April 2nd at 6pm. Space is limited. To sign up\, please scan the QR code or click the link below. Join us to experience the power of shared healing.
URL:https://hopecenterharlem.org/event/being-women/2026-04-23/
LOCATION:First Corinthian Baptist Church\, 1912 Adam Clayton Powell Junior Boulevard New York\, NY 10026\, NEW YORK\, 10026\, United States
ATTACH;FMTTYPE=image/png:https://hopecenterharlem.org/wp-content/uploads/2026/03/BEing-Women-Fall-2026-Flyer-1.png
END:VEVENT
BEGIN:VEVENT
DTSTART;TZID=America/New_York:20260423T180000
DTEND;TZID=America/New_York:20260423T203000
DTSTAMP:20260421T092541
CREATED:20260324T161800Z
LAST-MODIFIED:20260324T161800Z
UID:10000439-1776967200-1776976200@hopecenterharlem.org
SUMMARY:Dining With A Deacon
DESCRIPTION:It’s back for another year! On Thursday\, April 23rd at 6pm\, the HOPE Center hosts Dining with a Deacon. Join this intimate event where attendees and Deacons have candid conversations about spirituality\, mental health\, and more! Registration is required. Click the link and secure your spot.
URL:https://hopecenterharlem.org/event/dining-with-a-deacon-2/
LOCATION:First Corinthian Baptist Church\, 1912 Adam Clayton Powell Junior Boulevard New York\, NY 10026\, NEW YORK\, 10026\, United States
ATTACH;FMTTYPE=image/png:https://hopecenterharlem.org/wp-content/uploads/2026/03/Dining-w.-a-Deacon-IG-Presentation-1.png
END:VEVENT
BEGIN:VEVENT
DTSTART;TZID=America/New_York:20260424T180000
DTEND;TZID=America/New_York:20260424T210000
DTSTAMP:20260421T092541
CREATED:20260316T210833Z
LAST-MODIFIED:20260316T210835Z
UID:10000423-1777053600-1777064400@hopecenterharlem.org
SUMMARY:Paint n Chill
DESCRIPTION:Join us to celebrate Hope Center Weekend. \n\n\n\n\nThe HOPE Center is hosting a series of events leading up to HOPE Center Sunday. Join us Friday\, April 24th from 6-9pm for Paint n Chill at the painting lounge located at 15 W. 116th St. The cost is $40 per person and includes painting\, refreshments and fun. Space is limited. Reserve yours now.
URL:https://hopecenterharlem.org/event/paint-n-chill/
ATTACH;FMTTYPE=image/png:https://hopecenterharlem.org/wp-content/uploads/2026/03/2026-paint-n-chill.png
END:VEVENT
BEGIN:VEVENT
DTSTART;TZID=America/New_York:20260428T180000
DTEND;TZID=America/New_York:20260428T190000
DTSTAMP:20260421T092541
CREATED:20260309T144317Z
LAST-MODIFIED:20260316T185532Z
UID:10000410-1777399200-1777402800@hopecenterharlem.org
SUMMARY:The Woman Within
DESCRIPTION:Black women face a higher likelihood of developing fibroids\, yet so many navigate pelvic health challenges in silence. The Woman Within is a 5-week group created to hold honest\, & supportive conversations This space is about more than fibroids. It’s about understanding your body\, advocating for yourself\, and reconnecting with the woman within. The group begins Tuesday\, March 31st at 6 PM. To join us by click the link or scanning the QR code.
URL:https://hopecenterharlem.org/event/the-woman-within/2026-04-28/
LOCATION:First Corinthian Baptist Church\, 1912 Adam Clayton Powell Junior Boulevard New York\, NY 10026\, NEW YORK\, 10026\, United States
ATTACH;FMTTYPE=image/png:https://hopecenterharlem.org/wp-content/uploads/2026/02/The-Woman-Within-169-2.png
END:VEVENT
BEGIN:VEVENT
DTSTART;TZID=America/New_York:20260430T103000
DTEND;TZID=America/New_York:20260430T120000
DTSTAMP:20260421T092541
CREATED:20260316T171326Z
LAST-MODIFIED:20260316T171328Z
UID:10000418-1777545000-1777550400@hopecenterharlem.org
SUMMARY:The Story Within: A Memoir Writing Collective
DESCRIPTION:Through narrative\, we dive into the stories of our lives and re-tell the moments that have defined us. \n\n\n\n\nThe Story Within is a six week writing group rooted in narrative therapy and storytelling practices. The purpose of this group is to create a space for participants to make meaning of their life stories\, center themselves as the author of their narrative as it extends into the future\, and challenge dominant narratives that marginalize stories and strengths. Space is very limited. Please RSVP using the link below.
URL:https://hopecenterharlem.org/event/the-story-within-a-memoir-writing-collective/2026-04-30/
LOCATION:First Corinthian Baptist Church\, 1912 Adam Clayton Powell Junior Boulevard New York\, NY 10026\, NEW YORK\, 10026\, United States
ATTACH;FMTTYPE=image/png:https://hopecenterharlem.org/wp-content/uploads/2026/03/The-Story-Within-Presentation.png
END:VEVENT
BEGIN:VEVENT
DTSTART;TZID=America/New_York:20260430T180000
DTEND;TZID=America/New_York:20260430T200000
DTSTAMP:20260421T092541
CREATED:20260309T205525Z
LAST-MODIFIED:20260309T205527Z
UID:10000415-1777572000-1777579200@hopecenterharlem.org
SUMMARY:BEing Women
DESCRIPTION:It’s Back! Join the Hope Center for BEing Women – a five-week therapeutic group designed to support women navigating stress\, anxiety\, and depression. This cohort begins Thursday\, April 2nd at 6pm. Space is limited. To sign up\, please scan the QR code or click the link below. Join us to experience the power of shared healing.
URL:https://hopecenterharlem.org/event/being-women/2026-04-30/
LOCATION:First Corinthian Baptist Church\, 1912 Adam Clayton Powell Junior Boulevard New York\, NY 10026\, NEW YORK\, 10026\, United States
ATTACH;FMTTYPE=image/png:https://hopecenterharlem.org/wp-content/uploads/2026/03/BEing-Women-Fall-2026-Flyer-1.png
END:VEVENT
END:VCALENDAR