BEGIN:VCALENDAR
VERSION:2.0
PRODID:-//HOPE CENTER - ECPv6.15.20//NONSGML v1.0//EN
CALSCALE:GREGORIAN
METHOD:PUBLISH
X-ORIGINAL-URL:https://hopecenterharlem.org
X-WR-CALDESC:Events for HOPE CENTER
REFRESH-INTERVAL;VALUE=DURATION:PT1H
X-Robots-Tag:noindex
X-PUBLISHED-TTL:PT1H
BEGIN:VTIMEZONE
TZID:America/New_York
BEGIN:DAYLIGHT
TZOFFSETFROM:-0500
TZOFFSETTO:-0400
TZNAME:EDT
DTSTART:20250309T070000
END:DAYLIGHT
BEGIN:STANDARD
TZOFFSETFROM:-0400
TZOFFSETTO:-0500
TZNAME:EST
DTSTART:20251102T060000
END:STANDARD
BEGIN:DAYLIGHT
TZOFFSETFROM:-0500
TZOFFSETTO:-0400
TZNAME:EDT
DTSTART:20260308T070000
END:DAYLIGHT
BEGIN:STANDARD
TZOFFSETFROM:-0400
TZOFFSETTO:-0500
TZNAME:EST
DTSTART:20261101T060000
END:STANDARD
BEGIN:DAYLIGHT
TZOFFSETFROM:-0500
TZOFFSETTO:-0400
TZNAME:EDT
DTSTART:20270314T070000
END:DAYLIGHT
BEGIN:STANDARD
TZOFFSETFROM:-0400
TZOFFSETTO:-0500
TZNAME:EST
DTSTART:20271107T060000
END:STANDARD
END:VTIMEZONE
BEGIN:VTIMEZONE
TZID:UTC
BEGIN:STANDARD
TZOFFSETFROM:+0000
TZOFFSETTO:+0000
TZNAME:UTC
DTSTART:20230101T000000
END:STANDARD
END:VTIMEZONE
BEGIN:VEVENT
DTSTART;TZID=America/New_York:20260415T173000
DTEND;TZID=America/New_York:20260415T183000
DTSTAMP:20260421T110315
CREATED:20260317T172230Z
LAST-MODIFIED:20260317T172232Z
UID:10000429-1776274200-1776277800@hopecenterharlem.org
SUMMARY:Tai Chi
DESCRIPTION:The HOPE Center\, in collaboration with the MSK Ralph Lauren Center and the Dream Center Harlem\, is hosting Tai Chi\, a free martial arts program. Classes begin Wednesday\, March 11th. During free weekly in-person classes\, you will learn the basic concepts\, exercises\, and techniques of Tai Chi.
URL:https://hopecenterharlem.org/event/tai-chi/2026-04-15/
LOCATION:Dream Center Harlem\, 205 W. 119th Street New York\, NY 10026\, NEW YORK\, NY\, 10026\, United States
ATTACH;FMTTYPE=image/png:https://hopecenterharlem.org/wp-content/uploads/2026/03/TaiChiFlyer-SPRING2026.png
END:VEVENT
BEGIN:VEVENT
DTSTART;TZID=America/New_York:20260408T173000
DTEND;TZID=America/New_York:20260408T183000
DTSTAMP:20260421T110315
CREATED:20260317T172230Z
LAST-MODIFIED:20260317T172232Z
UID:10000428-1775669400-1775673000@hopecenterharlem.org
SUMMARY:Tai Chi
DESCRIPTION:The HOPE Center\, in collaboration with the MSK Ralph Lauren Center and the Dream Center Harlem\, is hosting Tai Chi\, a free martial arts program. Classes begin Wednesday\, March 11th. During free weekly in-person classes\, you will learn the basic concepts\, exercises\, and techniques of Tai Chi.
URL:https://hopecenterharlem.org/event/tai-chi/2026-04-08/
LOCATION:Dream Center Harlem\, 205 W. 119th Street New York\, NY 10026\, NEW YORK\, NY\, 10026\, United States
ATTACH;FMTTYPE=image/png:https://hopecenterharlem.org/wp-content/uploads/2026/03/TaiChiFlyer-SPRING2026.png
END:VEVENT
BEGIN:VEVENT
DTSTART;TZID=America/New_York:20260401T173000
DTEND;TZID=America/New_York:20260401T183000
DTSTAMP:20260421T110315
CREATED:20260317T172230Z
LAST-MODIFIED:20260317T172232Z
UID:10000427-1775064600-1775068200@hopecenterharlem.org
SUMMARY:Tai Chi
DESCRIPTION:The HOPE Center\, in collaboration with the MSK Ralph Lauren Center and the Dream Center Harlem\, is hosting Tai Chi\, a free martial arts program. Classes begin Wednesday\, March 11th. During free weekly in-person classes\, you will learn the basic concepts\, exercises\, and techniques of Tai Chi.
URL:https://hopecenterharlem.org/event/tai-chi/2026-04-01/
LOCATION:Dream Center Harlem\, 205 W. 119th Street New York\, NY 10026\, NEW YORK\, NY\, 10026\, United States
ATTACH;FMTTYPE=image/png:https://hopecenterharlem.org/wp-content/uploads/2026/03/TaiChiFlyer-SPRING2026.png
END:VEVENT
BEGIN:VEVENT
DTSTART;TZID=America/New_York:20260325T173000
DTEND;TZID=America/New_York:20260325T183000
DTSTAMP:20260421T110315
CREATED:20260317T172230Z
LAST-MODIFIED:20260317T172232Z
UID:10000426-1774459800-1774463400@hopecenterharlem.org
SUMMARY:Tai Chi
DESCRIPTION:The HOPE Center\, in collaboration with the MSK Ralph Lauren Center and the Dream Center Harlem\, is hosting Tai Chi\, a free martial arts program. Classes begin Wednesday\, March 11th. During free weekly in-person classes\, you will learn the basic concepts\, exercises\, and techniques of Tai Chi.
URL:https://hopecenterharlem.org/event/tai-chi/2026-03-25/
LOCATION:Dream Center Harlem\, 205 W. 119th Street New York\, NY 10026\, NEW YORK\, NY\, 10026\, United States
ATTACH;FMTTYPE=image/png:https://hopecenterharlem.org/wp-content/uploads/2026/03/TaiChiFlyer-SPRING2026.png
END:VEVENT
BEGIN:VEVENT
DTSTART;TZID=America/New_York:20260318T173000
DTEND;TZID=America/New_York:20260318T183000
DTSTAMP:20260421T110315
CREATED:20260317T172230Z
LAST-MODIFIED:20260317T172232Z
UID:10000425-1773855000-1773858600@hopecenterharlem.org
SUMMARY:Tai Chi
DESCRIPTION:The HOPE Center\, in collaboration with the MSK Ralph Lauren Center and the Dream Center Harlem\, is hosting Tai Chi\, a free martial arts program. Classes begin Wednesday\, March 11th. During free weekly in-person classes\, you will learn the basic concepts\, exercises\, and techniques of Tai Chi.
URL:https://hopecenterharlem.org/event/tai-chi/2026-03-18/
LOCATION:Dream Center Harlem\, 205 W. 119th Street New York\, NY 10026\, NEW YORK\, NY\, 10026\, United States
ATTACH;FMTTYPE=image/png:https://hopecenterharlem.org/wp-content/uploads/2026/03/TaiChiFlyer-SPRING2026.png
END:VEVENT
BEGIN:VEVENT
DTSTART;TZID=America/New_York:20260311T173000
DTEND;TZID=America/New_York:20260311T183000
DTSTAMP:20260421T110315
CREATED:20260317T172230Z
LAST-MODIFIED:20260317T172232Z
UID:10000424-1773250200-1773253800@hopecenterharlem.org
SUMMARY:Tai Chi
DESCRIPTION:The HOPE Center\, in collaboration with the MSK Ralph Lauren Center and the Dream Center Harlem\, is hosting Tai Chi\, a free martial arts program. Classes begin Wednesday\, March 11th. During free weekly in-person classes\, you will learn the basic concepts\, exercises\, and techniques of Tai Chi.
URL:https://hopecenterharlem.org/event/tai-chi/2026-03-11/
LOCATION:Dream Center Harlem\, 205 W. 119th Street New York\, NY 10026\, NEW YORK\, NY\, 10026\, United States
ATTACH;FMTTYPE=image/png:https://hopecenterharlem.org/wp-content/uploads/2026/03/TaiChiFlyer-SPRING2026.png
END:VEVENT
BEGIN:VEVENT
DTSTART;TZID=UTC:20240822T180000
DTEND;TZID=UTC:20240822T190000
DTSTAMP:20260421T110315
CREATED:20240807T022229Z
LAST-MODIFIED:20240807T022431Z
UID:10000003-1724349600-1724353200@hopecenterharlem.org
SUMMARY:Tai Chi Classes for Mind\, Body\, and Spirit
DESCRIPTION:Join the MSK Ralph Lauren Center for a free martial arts program in collaboration with the Abyssinian Baptist Church\, the Hope Center and hosted at the First Corinthians Baptist Church. During free weekly in-person classes\, you will learn the basic concepts\, exercises\, and techniques of Tai Chi.
URL:https://hopecenterharlem.org/event/tai-chi-classes-for-mind-body-and-spirit/
LOCATION:Dream Center Harlem\, 205 W. 119th Street New York\, NY 10026\, NEW YORK\, NY\, 10026\, United States
END:VEVENT
END:VCALENDAR